BEGIN:VCALENDAR
VERSION:2.0
PRODID:-//High Sierra Websites And Hosting - ECPv6.15.20//NONSGML v1.0//EN
CALSCALE:GREGORIAN
METHOD:PUBLISH
X-ORIGINAL-URL:https://highsierrawebsitesandhosting.com
X-WR-CALDESC:Events for High Sierra Websites And Hosting
REFRESH-INTERVAL;VALUE=DURATION:PT1H
X-Robots-Tag:noindex
X-PUBLISHED-TTL:PT1H
BEGIN:VTIMEZONE
TZID:America/Los_Angeles
BEGIN:DAYLIGHT
TZOFFSETFROM:-0800
TZOFFSETTO:-0700
TZNAME:PDT
DTSTART:20220313T100000
END:DAYLIGHT
BEGIN:STANDARD
TZOFFSETFROM:-0700
TZOFFSETTO:-0800
TZNAME:PST
DTSTART:20221106T090000
END:STANDARD
BEGIN:DAYLIGHT
TZOFFSETFROM:-0800
TZOFFSETTO:-0700
TZNAME:PDT
DTSTART:20230312T100000
END:DAYLIGHT
BEGIN:STANDARD
TZOFFSETFROM:-0700
TZOFFSETTO:-0800
TZNAME:PST
DTSTART:20231105T090000
END:STANDARD
BEGIN:DAYLIGHT
TZOFFSETFROM:-0800
TZOFFSETTO:-0700
TZNAME:PDT
DTSTART:20240310T100000
END:DAYLIGHT
BEGIN:STANDARD
TZOFFSETFROM:-0700
TZOFFSETTO:-0800
TZNAME:PST
DTSTART:20241103T090000
END:STANDARD
END:VTIMEZONE
BEGIN:VEVENT
DTSTART;TZID=America/Los_Angeles:20230801T180000
DTEND;TZID=America/Los_Angeles:20230801T235900
DTSTAMP:20260421T173040
CREATED:20230901T011921Z
LAST-MODIFIED:20230901T011922Z
UID:10983-1690912800-1690934340@highsierrawebsitesandhosting.com
SUMMARY:1. New Years Eve
DESCRIPTION:1. New Years Eve
URL:https://highsierrawebsitesandhosting.com/event/1-new-years-eve-2-2/
LOCATION:HSWH\, P.O Box 2653\, Orangevale\, CA\, 95662\, United States
CATEGORIES:Calendar Events
ATTACH;FMTTYPE=image/jpeg:https://highsierrawebsitesandhosting.com/wp-content/uploads/2023/03/1-New-Years-Eve.jpg
ORGANIZER;CN="HSWH":MAILTO:gbrillproducs@yahoo.com
END:VEVENT
BEGIN:VEVENT
DTSTART;TZID=America/Los_Angeles:20230501T180000
DTEND;TZID=America/Los_Angeles:20230501T235900
DTSTAMP:20260421T173040
CREATED:20230410T004931Z
LAST-MODIFIED:20230901T011726Z
UID:9311-1682964000-1682985540@highsierrawebsitesandhosting.com
SUMMARY:1. New Years Eve
DESCRIPTION:1. New Years Eve
URL:https://highsierrawebsitesandhosting.com/event/1-new-years-eve-2/
LOCATION:HSWH\, P.O Box 2653\, Orangevale\, CA\, 95662\, United States
CATEGORIES:Calendar Events
ATTACH;FMTTYPE=image/jpeg:https://highsierrawebsitesandhosting.com/wp-content/uploads/2023/03/1-New-Years-Eve.jpg
ORGANIZER;CN="HSWH":MAILTO:gbrillproducs@yahoo.com
END:VEVENT
BEGIN:VEVENT
DTSTART;TZID=America/Los_Angeles:20230501T180000
DTEND;TZID=America/Los_Angeles:20230501T235900
DTSTAMP:20260421T173040
CREATED:20230410T004931Z
LAST-MODIFIED:20230901T011726Z
UID:9311-1682964000-1682985540@highsierrawebsitesandhosting.com
SUMMARY:1. New Years Eve
DESCRIPTION:1. New Years Eve
URL:https://highsierrawebsitesandhosting.com/event/1-new-years-eve-2/
LOCATION:HSWH\, P.O Box 2653\, Orangevale\, CA\, 95662\, United States
CATEGORIES:Calendar Events
ATTACH;FMTTYPE=image/jpeg:https://highsierrawebsitesandhosting.com/wp-content/uploads/2023/03/1-New-Years-Eve.jpg
ORGANIZER;CN="HSWH":MAILTO:gbrillproducs@yahoo.com
END:VEVENT
BEGIN:VEVENT
DTSTART;TZID=America/Los_Angeles:20230501T180000
DTEND;TZID=America/Los_Angeles:20230501T235900
DTSTAMP:20260421T173040
CREATED:20230410T004931Z
LAST-MODIFIED:20230901T011726Z
UID:9311-1682964000-1682985540@highsierrawebsitesandhosting.com
SUMMARY:1. New Years Eve
DESCRIPTION:1. New Years Eve
URL:https://highsierrawebsitesandhosting.com/event/1-new-years-eve-2/
LOCATION:HSWH\, P.O Box 2653\, Orangevale\, CA\, 95662\, United States
CATEGORIES:Calendar Events
ATTACH;FMTTYPE=image/jpeg:https://highsierrawebsitesandhosting.com/wp-content/uploads/2023/03/1-New-Years-Eve.jpg
ORGANIZER;CN="HSWH":MAILTO:gbrillproducs@yahoo.com
END:VEVENT
BEGIN:VEVENT
DTSTART;TZID=America/Los_Angeles:20230410T190000
DTEND;TZID=America/Los_Angeles:20230410T230000
DTSTAMP:20260421T173040
CREATED:20230410T011211Z
LAST-MODIFIED:20230410T011212Z
UID:9314-1681153200-1681167600@highsierrawebsitesandhosting.com
SUMMARY:Karaoke
DESCRIPTION:Karaoke
URL:https://highsierrawebsitesandhosting.com/event/karaoke/
LOCATION:HSWH\, P.O Box 2653\, Orangevale\, CA\, 95662\, United States
CATEGORIES:Calendar Events
ATTACH;FMTTYPE=image/jpeg:https://highsierrawebsitesandhosting.com/wp-content/uploads/2023/04/Karaoke-1.jpg
ORGANIZER;CN="HSWH":MAILTO:gbrillproducs@yahoo.com
END:VEVENT
BEGIN:VEVENT
DTSTART;TZID=America/Los_Angeles:20230409T180000
DTEND;TZID=America/Los_Angeles:20230409T210000
DTSTAMP:20260421T173040
CREATED:20230410T011401Z
LAST-MODIFIED:20230410T011402Z
UID:9318-1681063200-1681074000@highsierrawebsitesandhosting.com
SUMMARY:4.7.2023 Drink Special
DESCRIPTION:4.7.2023 Drink Special
URL:https://highsierrawebsitesandhosting.com/event/4-2-2023-drink-special-2/
LOCATION:HSWH\, P.O Box 2653\, Orangevale\, CA\, 95662\, United States
CATEGORIES:Calendar Events
ATTACH;FMTTYPE=image/jpeg:https://highsierrawebsitesandhosting.com/wp-content/uploads/2023/04/Animated-Cocktail-Menu-Template-2-1.jpg
ORGANIZER;CN="HSWH":MAILTO:gbrillproducs@yahoo.com
END:VEVENT
BEGIN:VEVENT
DTSTART;TZID=America/Los_Angeles:20230501T180000
DTEND;TZID=America/Los_Angeles:20230501T235900
DTSTAMP:20260421T173040
CREATED:20230410T004931Z
LAST-MODIFIED:20230901T011726Z
UID:9311-1682964000-1682985540@highsierrawebsitesandhosting.com
SUMMARY:1. New Years Eve
DESCRIPTION:1. New Years Eve
URL:https://highsierrawebsitesandhosting.com/event/1-new-years-eve-2/
LOCATION:HSWH\, P.O Box 2653\, Orangevale\, CA\, 95662\, United States
CATEGORIES:Calendar Events
ATTACH;FMTTYPE=image/jpeg:https://highsierrawebsitesandhosting.com/wp-content/uploads/2023/03/1-New-Years-Eve.jpg
ORGANIZER;CN="HSWH":MAILTO:gbrillproducs@yahoo.com
END:VEVENT
BEGIN:VEVENT
DTSTART;TZID=America/Los_Angeles:20230501T180000
DTEND;TZID=America/Los_Angeles:20230501T235900
DTSTAMP:20260421T173040
CREATED:20230410T004931Z
LAST-MODIFIED:20230901T011726Z
UID:9311-1682964000-1682985540@highsierrawebsitesandhosting.com
SUMMARY:1. New Years Eve
DESCRIPTION:1. New Years Eve
URL:https://highsierrawebsitesandhosting.com/event/1-new-years-eve-2/
LOCATION:HSWH\, P.O Box 2653\, Orangevale\, CA\, 95662\, United States
CATEGORIES:Calendar Events
ATTACH;FMTTYPE=image/jpeg:https://highsierrawebsitesandhosting.com/wp-content/uploads/2023/03/1-New-Years-Eve.jpg
ORGANIZER;CN="HSWH":MAILTO:gbrillproducs@yahoo.com
END:VEVENT
BEGIN:VEVENT
DTSTART;TZID=America/Los_Angeles:20230501T180000
DTEND;TZID=America/Los_Angeles:20230501T235900
DTSTAMP:20260421T173040
CREATED:20230410T004931Z
LAST-MODIFIED:20230901T011726Z
UID:9311-1682964000-1682985540@highsierrawebsitesandhosting.com
SUMMARY:1. New Years Eve
DESCRIPTION:1. New Years Eve
URL:https://highsierrawebsitesandhosting.com/event/1-new-years-eve-2/
LOCATION:HSWH\, P.O Box 2653\, Orangevale\, CA\, 95662\, United States
CATEGORIES:Calendar Events
ATTACH;FMTTYPE=image/jpeg:https://highsierrawebsitesandhosting.com/wp-content/uploads/2023/03/1-New-Years-Eve.jpg
ORGANIZER;CN="HSWH":MAILTO:gbrillproducs@yahoo.com
END:VEVENT
BEGIN:VEVENT
DTSTART;TZID=America/Los_Angeles:20230501T180000
DTEND;TZID=America/Los_Angeles:20230501T235900
DTSTAMP:20260421T173040
CREATED:20230410T004931Z
LAST-MODIFIED:20230901T011726Z
UID:9311-1682964000-1682985540@highsierrawebsitesandhosting.com
SUMMARY:1. New Years Eve
DESCRIPTION:1. New Years Eve
URL:https://highsierrawebsitesandhosting.com/event/1-new-years-eve-2/
LOCATION:HSWH\, P.O Box 2653\, Orangevale\, CA\, 95662\, United States
CATEGORIES:Calendar Events
ATTACH;FMTTYPE=image/jpeg:https://highsierrawebsitesandhosting.com/wp-content/uploads/2023/03/1-New-Years-Eve.jpg
ORGANIZER;CN="HSWH":MAILTO:gbrillproducs@yahoo.com
END:VEVENT
BEGIN:VEVENT
DTSTART;TZID=America/Los_Angeles:20230410T190000
DTEND;TZID=America/Los_Angeles:20230410T230000
DTSTAMP:20260421T173040
CREATED:20230410T011211Z
LAST-MODIFIED:20230410T011212Z
UID:9314-1681153200-1681167600@highsierrawebsitesandhosting.com
SUMMARY:Karaoke
DESCRIPTION:Karaoke
URL:https://highsierrawebsitesandhosting.com/event/karaoke/
LOCATION:HSWH\, P.O Box 2653\, Orangevale\, CA\, 95662\, United States
CATEGORIES:Calendar Events
ATTACH;FMTTYPE=image/jpeg:https://highsierrawebsitesandhosting.com/wp-content/uploads/2023/04/Karaoke-1.jpg
ORGANIZER;CN="HSWH":MAILTO:gbrillproducs@yahoo.com
END:VEVENT
BEGIN:VEVENT
DTSTART;TZID=America/Los_Angeles:20230409T180000
DTEND;TZID=America/Los_Angeles:20230409T210000
DTSTAMP:20260421T173040
CREATED:20230410T011401Z
LAST-MODIFIED:20230410T011402Z
UID:9318-1681063200-1681074000@highsierrawebsitesandhosting.com
SUMMARY:4.7.2023 Drink Special
DESCRIPTION:4.7.2023 Drink Special
URL:https://highsierrawebsitesandhosting.com/event/4-2-2023-drink-special-2/
LOCATION:HSWH\, P.O Box 2653\, Orangevale\, CA\, 95662\, United States
CATEGORIES:Calendar Events
ATTACH;FMTTYPE=image/jpeg:https://highsierrawebsitesandhosting.com/wp-content/uploads/2023/04/Animated-Cocktail-Menu-Template-2-1.jpg
ORGANIZER;CN="HSWH":MAILTO:gbrillproducs@yahoo.com
END:VEVENT
BEGIN:VEVENT
DTSTART;TZID=America/Los_Angeles:20230501T180000
DTEND;TZID=America/Los_Angeles:20230501T235900
DTSTAMP:20260421T173040
CREATED:20230410T004931Z
LAST-MODIFIED:20230901T011726Z
UID:9311-1682964000-1682985540@highsierrawebsitesandhosting.com
SUMMARY:1. New Years Eve
DESCRIPTION:1. New Years Eve
URL:https://highsierrawebsitesandhosting.com/event/1-new-years-eve-2/
LOCATION:HSWH\, P.O Box 2653\, Orangevale\, CA\, 95662\, United States
CATEGORIES:Calendar Events
ATTACH;FMTTYPE=image/jpeg:https://highsierrawebsitesandhosting.com/wp-content/uploads/2023/03/1-New-Years-Eve.jpg
ORGANIZER;CN="HSWH":MAILTO:gbrillproducs@yahoo.com
END:VEVENT
BEGIN:VEVENT
DTSTART;TZID=America/Los_Angeles:20230501T180000
DTEND;TZID=America/Los_Angeles:20230501T235900
DTSTAMP:20260421T173040
CREATED:20230410T004931Z
LAST-MODIFIED:20230901T011726Z
UID:9311-1682964000-1682985540@highsierrawebsitesandhosting.com
SUMMARY:1. New Years Eve
DESCRIPTION:1. New Years Eve
URL:https://highsierrawebsitesandhosting.com/event/1-new-years-eve-2/
LOCATION:HSWH\, P.O Box 2653\, Orangevale\, CA\, 95662\, United States
CATEGORIES:Calendar Events
ATTACH;FMTTYPE=image/jpeg:https://highsierrawebsitesandhosting.com/wp-content/uploads/2023/03/1-New-Years-Eve.jpg
ORGANIZER;CN="HSWH":MAILTO:gbrillproducs@yahoo.com
END:VEVENT
BEGIN:VEVENT
DTSTART;TZID=America/Los_Angeles:20230501T180000
DTEND;TZID=America/Los_Angeles:20230501T235900
DTSTAMP:20260421T173040
CREATED:20230410T004931Z
LAST-MODIFIED:20230901T011726Z
UID:9311-1682964000-1682985540@highsierrawebsitesandhosting.com
SUMMARY:1. New Years Eve
DESCRIPTION:1. New Years Eve
URL:https://highsierrawebsitesandhosting.com/event/1-new-years-eve-2/
LOCATION:HSWH\, P.O Box 2653\, Orangevale\, CA\, 95662\, United States
CATEGORIES:Calendar Events
ATTACH;FMTTYPE=image/jpeg:https://highsierrawebsitesandhosting.com/wp-content/uploads/2023/03/1-New-Years-Eve.jpg
ORGANIZER;CN="HSWH":MAILTO:gbrillproducs@yahoo.com
END:VEVENT
BEGIN:VEVENT
DTSTART;TZID=America/Los_Angeles:20230501T180000
DTEND;TZID=America/Los_Angeles:20230501T235900
DTSTAMP:20260421T173040
CREATED:20230410T004931Z
LAST-MODIFIED:20230901T011726Z
UID:9311-1682964000-1682985540@highsierrawebsitesandhosting.com
SUMMARY:1. New Years Eve
DESCRIPTION:1. New Years Eve
URL:https://highsierrawebsitesandhosting.com/event/1-new-years-eve-2/
LOCATION:HSWH\, P.O Box 2653\, Orangevale\, CA\, 95662\, United States
CATEGORIES:Calendar Events
ATTACH;FMTTYPE=image/jpeg:https://highsierrawebsitesandhosting.com/wp-content/uploads/2023/03/1-New-Years-Eve.jpg
ORGANIZER;CN="HSWH":MAILTO:gbrillproducs@yahoo.com
END:VEVENT
BEGIN:VEVENT
DTSTART;TZID=America/Los_Angeles:20230409T180000
DTEND;TZID=America/Los_Angeles:20230409T210000
DTSTAMP:20260421T173040
CREATED:20230410T011401Z
LAST-MODIFIED:20230410T011402Z
UID:9318-1681063200-1681074000@highsierrawebsitesandhosting.com
SUMMARY:4.7.2023 Drink Special
DESCRIPTION:4.7.2023 Drink Special
URL:https://highsierrawebsitesandhosting.com/event/4-2-2023-drink-special-2/
LOCATION:HSWH\, P.O Box 2653\, Orangevale\, CA\, 95662\, United States
CATEGORIES:Calendar Events
ATTACH;FMTTYPE=image/jpeg:https://highsierrawebsitesandhosting.com/wp-content/uploads/2023/04/Animated-Cocktail-Menu-Template-2-1.jpg
ORGANIZER;CN="HSWH":MAILTO:gbrillproducs@yahoo.com
END:VEVENT
BEGIN:VEVENT
DTSTART;TZID=America/Los_Angeles:20230501T180000
DTEND;TZID=America/Los_Angeles:20230501T235900
DTSTAMP:20260421T173040
CREATED:20230410T004931Z
LAST-MODIFIED:20230901T011726Z
UID:9311-1682964000-1682985540@highsierrawebsitesandhosting.com
SUMMARY:1. New Years Eve
DESCRIPTION:1. New Years Eve
URL:https://highsierrawebsitesandhosting.com/event/1-new-years-eve-2/
LOCATION:HSWH\, P.O Box 2653\, Orangevale\, CA\, 95662\, United States
CATEGORIES:Calendar Events
ATTACH;FMTTYPE=image/jpeg:https://highsierrawebsitesandhosting.com/wp-content/uploads/2023/03/1-New-Years-Eve.jpg
ORGANIZER;CN="HSWH":MAILTO:gbrillproducs@yahoo.com
END:VEVENT
BEGIN:VEVENT
DTSTART;TZID=America/Los_Angeles:20230410T190000
DTEND;TZID=America/Los_Angeles:20230410T230000
DTSTAMP:20260421T173040
CREATED:20230410T011211Z
LAST-MODIFIED:20230410T011212Z
UID:9314-1681153200-1681167600@highsierrawebsitesandhosting.com
SUMMARY:Karaoke
DESCRIPTION:Karaoke
URL:https://highsierrawebsitesandhosting.com/event/karaoke/
LOCATION:HSWH\, P.O Box 2653\, Orangevale\, CA\, 95662\, United States
CATEGORIES:Calendar Events
ATTACH;FMTTYPE=image/jpeg:https://highsierrawebsitesandhosting.com/wp-content/uploads/2023/04/Karaoke-1.jpg
ORGANIZER;CN="HSWH":MAILTO:gbrillproducs@yahoo.com
END:VEVENT
BEGIN:VEVENT
DTSTART;TZID=America/Los_Angeles:20230508T080000
DTEND;TZID=America/Los_Angeles:20230508T170000
DTSTAMP:20260421T173040
CREATED:20230509T033749Z
LAST-MODIFIED:20230509T033812Z
UID:9786-1683532800-1683565200@highsierrawebsitesandhosting.com
SUMMARY:The Events Calendar
DESCRIPTION:
URL:https://highsierrawebsitesandhosting.com/event/the-events-calendar/
LOCATION:HSWH\, P.O Box 2653\, Orangevale\, CA\, 95662\, United States
ATTACH;FMTTYPE=image/jpeg:https://highsierrawebsitesandhosting.com/wp-content/uploads/2023/05/The-Events-Calendar-582023.jpg
ORGANIZER;CN="HSWH":MAILTO:gbrillproducs@yahoo.com
END:VEVENT
BEGIN:VEVENT
DTSTART;TZID=America/Los_Angeles:20230501T180000
DTEND;TZID=America/Los_Angeles:20230501T235900
DTSTAMP:20260421T173040
CREATED:20230410T004931Z
LAST-MODIFIED:20230901T011726Z
UID:9311-1682964000-1682985540@highsierrawebsitesandhosting.com
SUMMARY:1. New Years Eve
DESCRIPTION:1. New Years Eve
URL:https://highsierrawebsitesandhosting.com/event/1-new-years-eve-2/
LOCATION:HSWH\, P.O Box 2653\, Orangevale\, CA\, 95662\, United States
CATEGORIES:Calendar Events
ATTACH;FMTTYPE=image/jpeg:https://highsierrawebsitesandhosting.com/wp-content/uploads/2023/03/1-New-Years-Eve.jpg
ORGANIZER;CN="HSWH":MAILTO:gbrillproducs@yahoo.com
END:VEVENT
BEGIN:VEVENT
DTSTART;TZID=America/Los_Angeles:20230501T180000
DTEND;TZID=America/Los_Angeles:20230501T235900
DTSTAMP:20260421T173040
CREATED:20230410T004931Z
LAST-MODIFIED:20230901T011726Z
UID:9311-1682964000-1682985540@highsierrawebsitesandhosting.com
SUMMARY:1. New Years Eve
DESCRIPTION:1. New Years Eve
URL:https://highsierrawebsitesandhosting.com/event/1-new-years-eve-2/
LOCATION:HSWH\, P.O Box 2653\, Orangevale\, CA\, 95662\, United States
CATEGORIES:Calendar Events
ATTACH;FMTTYPE=image/jpeg:https://highsierrawebsitesandhosting.com/wp-content/uploads/2023/03/1-New-Years-Eve.jpg
ORGANIZER;CN="HSWH":MAILTO:gbrillproducs@yahoo.com
END:VEVENT
BEGIN:VEVENT
DTSTART;TZID=America/Los_Angeles:20230410T190000
DTEND;TZID=America/Los_Angeles:20230410T230000
DTSTAMP:20260421T173040
CREATED:20230410T011211Z
LAST-MODIFIED:20230410T011212Z
UID:9314-1681153200-1681167600@highsierrawebsitesandhosting.com
SUMMARY:Karaoke
DESCRIPTION:Karaoke
URL:https://highsierrawebsitesandhosting.com/event/karaoke/
LOCATION:HSWH\, P.O Box 2653\, Orangevale\, CA\, 95662\, United States
CATEGORIES:Calendar Events
ATTACH;FMTTYPE=image/jpeg:https://highsierrawebsitesandhosting.com/wp-content/uploads/2023/04/Karaoke-1.jpg
ORGANIZER;CN="HSWH":MAILTO:gbrillproducs@yahoo.com
END:VEVENT
BEGIN:VEVENT
DTSTART;TZID=America/Los_Angeles:20230409T180000
DTEND;TZID=America/Los_Angeles:20230409T210000
DTSTAMP:20260421T173040
CREATED:20230410T011401Z
LAST-MODIFIED:20230410T011402Z
UID:9318-1681063200-1681074000@highsierrawebsitesandhosting.com
SUMMARY:4.7.2023 Drink Special
DESCRIPTION:4.7.2023 Drink Special
URL:https://highsierrawebsitesandhosting.com/event/4-2-2023-drink-special-2/
LOCATION:HSWH\, P.O Box 2653\, Orangevale\, CA\, 95662\, United States
CATEGORIES:Calendar Events
ATTACH;FMTTYPE=image/jpeg:https://highsierrawebsitesandhosting.com/wp-content/uploads/2023/04/Animated-Cocktail-Menu-Template-2-1.jpg
ORGANIZER;CN="HSWH":MAILTO:gbrillproducs@yahoo.com
END:VEVENT
BEGIN:VEVENT
DTSTART;TZID=America/Los_Angeles:20230402T200000
DTEND;TZID=America/Los_Angeles:20230402T235900
DTSTAMP:20260421T173040
CREATED:20230402T034849Z
LAST-MODIFIED:20230408T060822Z
UID:9207-1680465600-1680479940@highsierrawebsitesandhosting.com
SUMMARY:4.7.2023 Drink Special
DESCRIPTION:4.7.2023 Drink Special
URL:https://highsierrawebsitesandhosting.com/event/4-2-2023-drink-special/
LOCATION:HSWH\, P.O Box 2653\, Orangevale\, CA\, 95662\, United States
CATEGORIES:Calendar Events
ATTACH;FMTTYPE=image/jpeg:https://highsierrawebsitesandhosting.com/wp-content/uploads/2023/04/Animated-Cocktail-Menu-Template-2-1.jpg
ORGANIZER;CN="HSWH":MAILTO:gbrillproducs@yahoo.com
END:VEVENT
END:VCALENDAR